BEGIN:VCALENDAR
VERSION:2.0
PRODID:-//Kreatív Kávé
CALSCALE:GREGORIAN
METHOD:PUBLISH
X-WR-CALNAME:Kreatív Kávé
X-ORIGINAL-URL:https://kreativkave.hu/termek/uromi-program/toszkan-pipacsok-olajfestes-urom/
X-WR-CALDESC:Kreatív Kávé Alkotótábor: Toszkán pipacsok- olajfestés, Üröm
BEGIN:VEVENT
DTSTART:20210627T090000
DTEND:20210627T170000
SUMMARY:Kreatív Kávé Alkotótábor: Toszkán pipacsok- olajfestés, Üröm
DESCRIPTION:Pipacsos tájkép, mediterrán hangulat, alkossuk meg együtt olajfestékkel és festőkéssel ürömi Alkotótáborunkban!
URL:https://kreativkave.hu/termek/uromi-program/toszkan-pipacsok-olajfestes-urom/
LOCATION:Kreatív Kávé - Üröm  2096 Üröm, Lobogó u. 2/C.
END:VEVENT
END:VCALENDAR
