BEGIN:VCALENDAR
VERSION:2.0
PRODID:-//Kreatív Kávé
CALSCALE:GREGORIAN
METHOD:PUBLISH
X-WR-CALNAME:Kreatív Kávé
X-ORIGINAL-URL:https://kreativkave.hu/termek/uromi-program/kreativ-kave-alkototabor-karib-tenger-akrilfestes-urom/
X-WR-CALDESC:Kreatív Kávé Alkotótábor: Karib-tenger akrilfestés, Üröm
BEGIN:VEVENT
DTSTART:20210626T090000
DTEND:20210626T170000
SUMMARY:Kreatív Kávé Alkotótábor: Karib-tenger akrilfestés, Üröm
DESCRIPTION:Karib-tengeri utazás, kétárbócos vitorlás: alkossuk meg együtt a Kreatív Kávé ürömi Alkotótáborában!
URL:https://kreativkave.hu/termek/uromi-program/kreativ-kave-alkototabor-karib-tenger-akrilfestes-urom/
LOCATION:Kreatív Kávé - Üröm  2096 Üröm, Lobogó u. 2/C.
END:VEVENT
END:VCALENDAR
