BEGIN:VCALENDAR
VERSION:2.0
PRODID:-//Kreatív Kávé
CALSCALE:GREGORIAN
METHOD:PUBLISH
X-WR-CALNAME:Kreatív Kávé
X-ORIGINAL-URL:https://kreativkave.hu/termek/szegedi-program/kreativ-kave-alkototabor-afgan-leany-algyo/
X-WR-CALDESC:Kreatív Kávé Alkotótábor: Afgán leány, Algyő
BEGIN:VEVENT
DTSTART:20210706T090000
DTEND:20210706T170000
SUMMARY:Kreatív Kávé Alkotótábor: Afgán leány, Algyő
DESCRIPTION:Afgán leány portréja olajfestékkel a Kreatív Kávé Algyői Alkotótáborának festőprogramján!
URL:https://kreativkave.hu/termek/szegedi-program/kreativ-kave-alkototabor-afgan-leany-algyo/
LOCATION:Algyői Tájház - 6750 Algyő, Kastélykert utca 42. 
END:VEVENT
END:VCALENDAR
