BEGIN:VCALENDAR
VERSION:2.0
PRODID:-//Kreatív Kávé
CALSCALE:GREGORIAN
METHOD:PUBLISH
X-WR-CALNAME:Kreatív Kávé
X-ORIGINAL-URL:https://kreativkave.hu/termek/szegedi-program/kreativ-kave-alkototabor-gustav-klimt-az-elet-faja-algyo/
X-WR-CALDESC:Kreatív Kávé Alkotótábor: Gustav Klimt &#8211; Az élet fája, Algyő
BEGIN:VEVENT
DTSTART:20210705T091000
DTEND:20210705T170000
SUMMARY:Kreatív Kávé Alkotótábor: Gustav Klimt &#8211; Az élet fája, Algyő
DESCRIPTION:Gustav Klimt Az élet fája a Kreatív Kávé Algyői Alkotótáborának programján!
URL:https://kreativkave.hu/termek/szegedi-program/kreativ-kave-alkototabor-gustav-klimt-az-elet-faja-algyo/
LOCATION:Algyői Tájház - 6750 Algyő, Kastélykert utca 42. 
END:VEVENT
END:VCALENDAR
