BEGIN:VCALENDAR
VERSION:2.0
PRODID:-//Kreatív Kávé
CALSCALE:GREGORIAN
METHOD:PUBLISH
X-WR-CALNAME:Kreatív Kávé
X-ORIGINAL-URL:https://kreativkave.hu/termek/uromi-program/kreativ-kave-alkototabor-gustav-klimt-az-elet-faja-urom/
X-WR-CALDESC:Kreatív Kávé Alkotótábor: Gustav Klimt &#8211; Az élet fája, Üröm
BEGIN:VEVENT
DTSTART:20210621T091000
DTEND:20210621T170000
SUMMARY:Kreatív Kávé Alkotótábor: Gustav Klimt &#8211; Az élet fája, Üröm
DESCRIPTION:Gustav Klimt Az élet fája a Kreatív Kávé Ürömi Alkotótáborának programján!
URL:https://kreativkave.hu/termek/uromi-program/kreativ-kave-alkototabor-gustav-klimt-az-elet-faja-urom/
LOCATION:Kreatív Kávé - Üröm  2096 Üröm, Lobogó u. 2/C.
END:VEVENT
END:VCALENDAR
