BEGIN:VCALENDAR
VERSION:2.0
PRODID:-//Kreatív Kávé
CALSCALE:GREGORIAN
METHOD:PUBLISH
X-WR-CALNAME:Kreatív Kávé
X-ORIGINAL-URL:https://kreativkave.hu/termek/balatoni-program/alkototabor-2021-badacsony-2-turnus/
X-WR-CALDESC:Alkotótábor 2021 Badacsony &#8211; 2. turnus
BEGIN:VEVENT
DTSTART:20210805T130000
DTEND:20210808T120000
SUMMARY:Alkotótábor 2021 Badacsony &#8211; 2. turnus
DESCRIPTION:Festőtábor a Balatonnál augusztusban a Kreatív Kávéval!
URL:https://kreativkave.hu/termek/balatoni-program/alkototabor-2021-badacsony-2-turnus/
LOCATION:Rozi Panzió 8261 Badacsony Római út 246.
END:VEVENT
END:VCALENDAR
