BEGIN:VCALENDAR
VERSION:2.0
PRODID:-//Kreatív Kávé
CALSCALE:GREGORIAN
METHOD:PUBLISH
X-WR-CALNAME:Kreatív Kávé
X-ORIGINAL-URL:https://kreativkave.hu/termek/uromi-program/kreativ-kave-alkototabor-2021-urom-heti-berlet/
X-WR-CALDESC:Kreatív Kávé Alkotótábor 2021 Üröm &#8211; heti bérlet
BEGIN:VEVENT
DTSTART:20210621T090000
DTEND:20210627T170000
SUMMARY:Kreatív Kávé Alkotótábor 2021 Üröm &#8211; heti bérlet
DESCRIPTION:
URL:https://kreativkave.hu/termek/uromi-program/kreativ-kave-alkototabor-2021-urom-heti-berlet/
LOCATION:Kreatív Kávé - Üröm  2096 Üröm, Lobogó u. 2/C.
END:VEVENT
END:VCALENDAR
