BEGIN:VCALENDAR
VERSION:2.0
PRODID:-//Kreatív Kávé
CALSCALE:GREGORIAN
METHOD:PUBLISH
X-WR-CALNAME:Kreatív Kávé
X-ORIGINAL-URL:https://kreativkave.hu/termek/szegedi-program/magnolia-viragok-akrilfestes-szeged_3-csoport/
X-WR-CALDESC:Magnólia virágok &#8211; akrilfestés, Szeged_3. csoport
BEGIN:VEVENT
DTSTART:20210307T150000
DTEND:20210307T190000
SUMMARY:Magnólia virágok &#8211; akrilfestés, Szeged_3. csoport
DESCRIPTION:Márciusban fókuszban a tavasz, az újraéledő természet, a virágok! Fessük meg együtt ezeket a pompás Magnóliákat akrilfestékkel festőprogramunkon!
URL:https://kreativkave.hu/termek/szegedi-program/magnolia-viragok-akrilfestes-szeged_3-csoport/
LOCATION:AASZC Fodor József Élelmiszeripari Technikum és Szakképző Iskola 6725 Szeged Szabadkai út 3.
END:VEVENT
END:VCALENDAR
