BEGIN:VCALENDAR
VERSION:2.0
PRODID:-//Kreatív Kávé
CALSCALE:GREGORIAN
METHOD:PUBLISH
X-WR-CALNAME:Kreatív Kávé
X-ORIGINAL-URL:https://kreativkave.hu/termek/szegedi-program/klimt-a-csok-akrilfestes-aranyozas-szeged-2/
X-WR-CALDESC:Klimt: A Csók, akrilfestés/aranyozás &#8211; Szeged
BEGIN:VEVENT
DTSTART:20210905T100000
DTEND:20210905T150000
SUMMARY:Klimt: A Csók, akrilfestés/aranyozás &#8211; Szeged
DESCRIPTION:Alkosd újra Klimt: A csók-ját és fedezzük fel együtt titkait!
URL:https://kreativkave.hu/termek/szegedi-program/klimt-a-csok-akrilfestes-aranyozas-szeged-2/
LOCATION:AASZC Fodor József Élelmiszeripari Technikum és Szakképző Iskola 6725 Szeged Szabadkai út 3.
END:VEVENT
END:VCALENDAR
