BEGIN:VCALENDAR
VERSION:2.0
PRODID:-//Kreatív Kávé
CALSCALE:GREGORIAN
METHOD:PUBLISH
X-WR-CALNAME:Kreatív Kávé
X-ORIGINAL-URL:https://kreativkave.hu/termek/szegedi-program/oszi-hid-olajfestes-szeged-2/
X-WR-CALDESC:Őszi híd &#8211; olajfestés, Szeged
BEGIN:VEVENT
DTSTART:20201205T150000
DTEND:20201205T190000
SUMMARY:Őszi híd &#8211; olajfestés, Szeged
DESCRIPTION:Az olajfestéknek nincs párja, krémes állaga, illata önmagában kellemes élmény, festőkéssel pedig jól visszaadható az impresszionista hangulat, a foltok sokasága. Többféle festőkés formát is kipróbálhatsz alkotás közben, attól függően, hogy milyen nyomot szeretnél hagyni. <span class="text_exposed_show">A sok tiszta színfolt "robbanása" adja a téma igazi varázsát. Tarts velünk, szeretettel várunk!</span>
URL:https://kreativkave.hu/termek/szegedi-program/oszi-hid-olajfestes-szeged-2/
LOCATION:Fodor József Élelmiszeripari Szakgimnázium és Szakközépiskola 6725 Szeged, Szabadkai út 3.
END:VEVENT
END:VCALENDAR
