BEGIN:VCALENDAR
VERSION:2.0
PRODID:-//Kreatív Kávé
CALSCALE:GREGORIAN
METHOD:PUBLISH
X-WR-CALNAME:Kreatív Kávé
X-ORIGINAL-URL:https://kreativkave.hu/termek/szegedi-program/angyallany-aranyozas-szeged/
X-WR-CALDESC:Angyallány &#8211; aranyozás, Szeged
BEGIN:VEVENT
DTSTART:20201205T100000
DTEND:20201205T140000
SUMMARY:Angyallány &#8211; aranyozás, Szeged
DESCRIPTION:Angyallány arany vagy ezüst színvilágban! Alkoss igazi aranyozós médiumokkal és tedd ragyogóvá alkotásod! Festőprogramunkon fiber pasztát használjuk majd, hogy domború részeket is kialakíthassunk a képen! Fesd meg a karácsonyi hangulathoz vagy alkosd meg ajándékba!
URL:https://kreativkave.hu/termek/szegedi-program/angyallany-aranyozas-szeged/
LOCATION:Fodor József Élelmiszeripari Szakgimnázium és Szakközépiskola 6725 Szeged, Szabadkai út 3.
END:VEVENT
END:VCALENDAR
