BEGIN:VCALENDAR
VERSION:2.0
PRODID:-//Kreatív Kávé
CALSCALE:GREGORIAN
METHOD:PUBLISH
X-WR-CALNAME:Kreatív Kávé
X-ORIGINAL-URL:https://kreativkave.hu/termek/szegedi-program/aranykonnyek-aranyozas-szeged/
X-WR-CALDESC:Aranykönnyek &#8211; aranyozás, Szeged
BEGIN:VEVENT
DTSTART:20201107T150000
DTEND:20201107T190000
SUMMARY:Aranykönnyek &#8211; aranyozás, Szeged
DESCRIPTION:Fesd meg Freya aranykönnyeit Gustav Klimt és Anne-Marie Zilberman nyomában! Alkoss igazi aranyozós médiumokkal és tedd ragyogóvá portréd!
URL:https://kreativkave.hu/termek/szegedi-program/aranykonnyek-aranyozas-szeged/
LOCATION:Fodor József Élelmiszeripari Szakgimnázium és Szakközépiskola 6725 Szeged, Szabadkai út 3.
END:VEVENT
END:VCALENDAR
