BEGIN:VCALENDAR
VERSION:2.0
PRODID:-//Kreatív Kávé
CALSCALE:GREGORIAN
METHOD:PUBLISH
X-WR-CALNAME:Kreatív Kávé
X-ORIGINAL-URL:https://kreativkave.hu/termek/szegedi-program/alkototabor-2020-algyo-vasarnapi-napijegy-wellness-akrilfestes/
X-WR-CALDESC:Alkotótábor 2020. Algyő, vasárnapi napijegy: Wellness &#8211; akrilfestés
BEGIN:VEVENT
DTSTART:20200705T090000
DTEND:20200705T170000
SUMMARY:Alkotótábor 2020. Algyő, vasárnapi napijegy: Wellness &#8211; akrilfestés
DESCRIPTION:A csajos téma kidolgozása közben gyakoroljuk a kéz és arc ábrázolását, a ruha redőzését. A hátteret és a témát saját színvilágodra alakíthatod.
URL:https://kreativkave.hu/termek/szegedi-program/alkototabor-2020-algyo-vasarnapi-napijegy-wellness-akrilfestes/
LOCATION:Algyői Tájház - 6750 Algyő, Kastélykert utca 42. 
END:VEVENT
END:VCALENDAR
