BEGIN:VCALENDAR
VERSION:2.0
PRODID:-//Kreatív Kávé
CALSCALE:GREGORIAN
METHOD:PUBLISH
X-WR-CALNAME:Kreatív Kávé
X-ORIGINAL-URL:https://kreativkave.hu/termek/uromi-program/alkototabor-2020-urom-csutortoki-napijegy-hullamzas-olajfestes/
X-WR-CALDESC:Alkotótábor 2020. Üröm, csütörtöki napijegy: Hullámzás olajfestés
BEGIN:VEVENT
DTSTART:20200716T090000
DTEND:20200716T170000
SUMMARY:Alkotótábor 2020. Üröm, csütörtöki napijegy: Hullámzás olajfestés
DESCRIPTION:Olajfestékkel festjük meg ezeket a tarajos hullámokat ürömi alkotótáborunkban! Tarts velünk!
URL:https://kreativkave.hu/termek/uromi-program/alkototabor-2020-urom-csutortoki-napijegy-hullamzas-olajfestes/
LOCATION:Kreatív Kávé - Üröm  2096 Üröm, Lobogó u. 2/C.
END:VEVENT
END:VCALENDAR
