BEGIN:VCALENDAR
VERSION:2.0
PRODID:-//Kreatív Kávé
CALSCALE:GREGORIAN
METHOD:PUBLISH
X-WR-CALNAME:Kreatív Kávé
X-ORIGINAL-URL:https://kreativkave.hu/termek/uromi-program/alkototabor-2020-urom-keddi-napijegy-tengerobol-olajfestes/
X-WR-CALDESC:Alkotótábor 2020. Üröm, keddi napijegy: Tengeröböl olajfestés
BEGIN:VEVENT
DTSTART:20200714T090000
DTEND:20200714T170000
SUMMARY:Alkotótábor 2020. Üröm, keddi napijegy: Tengeröböl olajfestés
DESCRIPTION:Pihenjünk meg egy csodás tengeröböl felett és örökítsük meg a nyugalmat sugárzó pillanatot olajfestékkel, ecsettel!
URL:https://kreativkave.hu/termek/uromi-program/alkototabor-2020-urom-keddi-napijegy-tengerobol-olajfestes/
LOCATION:Kreatív Kávé - Üröm  2096 Üröm, Lobogó u. 2/C.
END:VEVENT
END:VCALENDAR
