BEGIN:VCALENDAR
VERSION:2.0
PRODID:-//Kreatív Kávé
CALSCALE:GREGORIAN
METHOD:PUBLISH
X-WR-CALNAME:Kreatív Kávé
X-ORIGINAL-URL:https://kreativkave.hu/termek/uromi-program/alkototabor-urom-hetfoi-napijegy-klimt-adele/
X-WR-CALDESC:Alkotótábor 2020. Üröm, hétfői napijegy: Klimt &#8211; Adele
BEGIN:VEVENT
DTSTART:20200713T090000
DTEND:20200713T170000
SUMMARY:Alkotótábor 2020. Üröm, hétfői napijegy: Klimt &#8211; Adele
DESCRIPTION:Aranyos napunkon a „Klimt – Bloch-Bauer I” c. alkotásának parafrázisát festjük meg metál akrilfesték, füstfólia, dekor fólia, effekt paszta felhasználásával. Az arany mellett lesznek ezüst médiumok is.
URL:https://kreativkave.hu/termek/uromi-program/alkototabor-urom-hetfoi-napijegy-klimt-adele/
LOCATION:Kreatív Kávé - Üröm  2096 Üröm, Lobogó u. 2/C.
END:VEVENT
END:VCALENDAR
