BEGIN:VCALENDAR
VERSION:2.0
PRODID:-//Kreatív Kávé
CALSCALE:GREGORIAN
METHOD:PUBLISH
X-WR-CALNAME:Kreatív Kávé
X-ORIGINAL-URL:https://kreativkave.hu/termek/uromi-program/fuvallat-olajfestes-urom/
X-WR-CALDESC:Fuvallat, olajfestés &#8211; Üröm
BEGIN:VEVENT
DTSTART:20200607T100000
DTEND:20200607T150000
SUMMARY:Fuvallat, olajfestés &#8211; Üröm
DESCRIPTION:Finom átmenetek olajfestékkel! Portrézz velünk!
URL:https://kreativkave.hu/termek/uromi-program/fuvallat-olajfestes-urom/
LOCATION:Kreatív Kávé - Üröm  2096 Üröm, Lobogó u. 2/C.
END:VEVENT
END:VCALENDAR
