BEGIN:VCALENDAR
VERSION:2.0
PRODID:-//Kreatív Kávé
CALSCALE:GREGORIAN
METHOD:PUBLISH
X-WR-CALNAME:Kreatív Kávé
X-ORIGINAL-URL:https://kreativkave.hu/termek/szegedi-program/pipacsmezo-akrilfestes-szeged/
X-WR-CALDESC:Pipacsmező, akrilfestés &#8211; Szeged
BEGIN:VEVENT
DTSTART:20200530T150000
DTEND:20200530T180000
SUMMARY:Pipacsmező, akrilfestés &#8211; Szeged
DESCRIPTION:Örökítsük meg a forró nyár színes, vibráló hangulatát!
URL:https://kreativkave.hu/termek/szegedi-program/pipacsmezo-akrilfestes-szeged/
LOCATION:Fodor József Élelmiszeripari Szakgimnázium és Szakközépiskola 6725 Szeged, Szabadkai út 3.
END:VEVENT
END:VCALENDAR
