BEGIN:VCALENDAR
VERSION:2.0
PRODID:-//Kreatív Kávé
CALSCALE:GREGORIAN
METHOD:PUBLISH
X-WR-CALNAME:Kreatív Kávé
X-ORIGINAL-URL:https://kreativkave.hu/termek/uromi-program/szines-folyo-akrilfestes-urom/
X-WR-CALDESC:SZÍNES FOLYÓ, AKRILFESTÉS &#8211; ÜRÖM
BEGIN:VEVENT
DTSTART:20200321T150000
DTEND:20200321T170000
SUMMARY:SZÍNES FOLYÓ, AKRILFESTÉS &#8211; ÜRÖM
DESCRIPTION:Fess vidám, vibráló hangulatot a Kreatív Kávéval!
URL:https://kreativkave.hu/termek/uromi-program/szines-folyo-akrilfestes-urom/
LOCATION:Kreatív Kávé - Üröm  2096 Üröm, Lobogó u. 2/C.
END:VEVENT
END:VCALENDAR
