BEGIN:VCALENDAR
VERSION:2.0
PRODID:-//Kreatív Kávé
CALSCALE:GREGORIAN
METHOD:PUBLISH
X-WR-CALNAME:Kreatív Kávé
X-ORIGINAL-URL:https://kreativkave.hu/termek/szegedi-program/vang-gogh-olajfak-olajfestes-szeged/
X-WR-CALDESC:Vang Gogh: Olajfák, olajfestés &#8211; Szeged
BEGIN:VEVENT
DTSTART:20201108T100000
DTEND:20201108T140000
SUMMARY:Vang Gogh: Olajfák, olajfestés &#8211; Szeged
DESCRIPTION:Gyere velünk az impresszionizmus világába, alkossuk meg Van Gogh örvényeit, ismerkedjünk impaszto technikájával, páratlan színvilágával ezen az éjszakai, holdfényes tájképen keresztül!
URL:https://kreativkave.hu/termek/szegedi-program/vang-gogh-olajfak-olajfestes-szeged/
LOCATION:Fodor József Élelmiszeripari Szakgimnázium és Szakközépiskola 6725 Szeged, Szabadkai út 3.
END:VEVENT
END:VCALENDAR
