BEGIN:VCALENDAR
VERSION:2.0
PRODID:-//Kreatív Kávé
CALSCALE:GREGORIAN
METHOD:PUBLISH
X-WR-CALNAME:Kreatív Kávé
X-ORIGINAL-URL:https://kreativkave.hu/termek/szegedi-program/kapu-akrilfestes-szeged/
X-WR-CALDESC:Kapu, akrilfestés &#8211; Szeged
BEGIN:VEVENT
DTSTART:20200509T100000
DTEND:20200509T130000
SUMMARY:Kapu, akrilfestés &#8211; Szeged
DESCRIPTION:Egy titokzatos kapu - vajon mi rejtőzhet mögötte?
URL:https://kreativkave.hu/termek/szegedi-program/kapu-akrilfestes-szeged/
LOCATION:Fodor József Élelmiszeripari Szakgimnázium és Szakközépiskola 6725 Szeged, Szabadkai út 3.
END:VEVENT
END:VCALENDAR
