BEGIN:VCALENDAR
VERSION:2.0
PRODID:-//Kreatív Kávé
CALSCALE:GREGORIAN
METHOD:PUBLISH
X-WR-CALNAME:Kreatív Kávé
X-ORIGINAL-URL:https://kreativkave.hu/termek/szegedi-program/klimt-anya-gyermekevel-akrilfestes-aranyozas-szeged/
X-WR-CALDESC:Klimt: Anya gyermekével, akrilfestés/aranyozás &#8211; Szeged
BEGIN:VEVENT
DTSTART:20200419T100000
DTEND:20200419T150000
SUMMARY:Klimt: Anya gyermekével, akrilfestés/aranyozás &#8211; Szeged
DESCRIPTION:Egy igazán ragyogó témával várunk! Imádjuk Klimtet, tőle választottuk közelgő Anyák napja alkalmából ezt a páratlan festményt!
URL:https://kreativkave.hu/termek/szegedi-program/klimt-anya-gyermekevel-akrilfestes-aranyozas-szeged/
LOCATION:Fodor József Élelmiszeripari Szakgimnázium és Szakközépiskola 6725 Szeged, Szabadkai út 3.
END:VEVENT
END:VCALENDAR
