BEGIN:VCALENDAR
VERSION:2.0
PRODID:-//Kreatív Kávé
CALSCALE:GREGORIAN
METHOD:PUBLISH
X-WR-CALNAME:Kreatív Kávé
X-ORIGINAL-URL:https://kreativkave.hu/termek/szegedi-program/szines-folyo-akrilfestes-szeged/
X-WR-CALDESC:SZÍNES FOLYÓ, AKRILFESTÉS &#8211; SZEGED
BEGIN:VEVENT
DTSTART:20200315T100000
DTEND:20200315T123000
SUMMARY:SZÍNES FOLYÓ, AKRILFESTÉS &#8211; SZEGED
DESCRIPTION:Krémes akrilfestékkel és festőkéssel alkotjuk meg ezt a csodás, vibráló hangulatot! A festőkés nyomai a lombokon száradás után is kiemelkednek a kép síkjából.
URL:https://kreativkave.hu/termek/szegedi-program/szines-folyo-akrilfestes-szeged/
LOCATION:Fodor József Élelmiszeripari Szakgimnázium és Szakközépiskola 6725 Szeged, Szabadkai út 3.
END:VEVENT
END:VCALENDAR
