BEGIN:VCALENDAR
VERSION:2.0
PRODID:-//Kreatív Kávé
CALSCALE:GREGORIAN
METHOD:PUBLISH
X-WR-CALNAME:Kreatív Kávé
X-ORIGINAL-URL:https://kreativkave.hu/termek/uromi-program/van-gogh-buzafold-ciprusokkal-olajfestes-urom/
X-WR-CALDESC:Van Gogh- Búzaföld ciprusokkal, olajfestés &#8211; Üröm
BEGIN:VEVENT
DTSTART:20200308T100000
DTEND:20200308T140000
SUMMARY:Van Gogh- Búzaföld ciprusokkal, olajfestés &#8211; Üröm
DESCRIPTION:Gyere velünk az impresszionizmus világába, alkossuk meg Van Gogh örvényeit, ismerkedjünk impaszto technikájával, páratlan színvilágával!
URL:https://kreativkave.hu/termek/uromi-program/van-gogh-buzafold-ciprusokkal-olajfestes-urom/
LOCATION:Kreatív Kávé - Üröm  2096 Üröm, Lobogó u. 2/C.
END:VEVENT
END:VCALENDAR
