BEGIN:VCALENDAR
VERSION:2.0
PRODID:-//Kreatív Kávé
CALSCALE:GREGORIAN
METHOD:PUBLISH
X-WR-CALNAME:Kreatív Kávé
X-ORIGINAL-URL:https://kreativkave.hu/termek/szegedi-program/kreativ-kave-alkototabor-2020-algyo/
X-WR-CALDESC:Kreatív Kávé Alkotótábor 2020 Algyő heti bérlet
BEGIN:VEVENT
DTSTART:20200629T090000
DTEND:20200705T170000
SUMMARY:Kreatív Kávé Alkotótábor 2020 Algyő heti bérlet
DESCRIPTION:Hét nap kikapcsolódás, kreativitás, jó csapat, vidám hangulat, a közösségi alkotás élménye Algyőn, 2020-as alkotótáborunkban!
URL:https://kreativkave.hu/termek/szegedi-program/kreativ-kave-alkototabor-2020-algyo/
LOCATION:Algyői Tájház - 6750 Algyő, Kastélykert utca 42. 
END:VEVENT
END:VCALENDAR
