BEGIN:VCALENDAR
VERSION:2.0
PRODID:-//Kreatív Kávé
CALSCALE:GREGORIAN
METHOD:PUBLISH
X-WR-CALNAME:Kreatív Kávé
X-ORIGINAL-URL:https://kreativkave.hu/termek/uromi-program/szirmok-akrilfestes-urom/
X-WR-CALDESC:Szirmok, akrilfestés &#8211; Üröm
BEGIN:VEVENT
DTSTART:20200215T150000
DTEND:20200215T183000
SUMMARY:Szirmok, akrilfestés &#8211; Üröm
DESCRIPTION:Alkoss velünk szirmokat akrilfestékkel és térfogatnövelő médiummal. Ragyogtass rajta aranyat vagy ezüstöt!
URL:https://kreativkave.hu/termek/uromi-program/szirmok-akrilfestes-urom/
LOCATION:Kreatív Kávé - Üröm  2096 Üröm, Lobogó u. 2/C.
END:VEVENT
END:VCALENDAR
