BEGIN:VCALENDAR
VERSION:2.0
PRODID:-//Kreatív Kávé
CALSCALE:GREGORIAN
METHOD:PUBLISH
X-WR-CALNAME:Kreatív Kávé
X-ORIGINAL-URL:https://kreativkave.hu/termek/szegedi-program/kreativ-kave-aranyut-klimt-nyomaban-becs/
X-WR-CALDESC:Kreatív Kávé aranyút Klimt nyomában, Bécs
BEGIN:VEVENT
DTSTART:20200119T050000
DTEND:20200119T220000
SUMMARY:Kreatív Kávé aranyút Klimt nyomában, Bécs
DESCRIPTION:Rendhagyó, aranyos programmal várunk januárban! Kreatív Kávé busz indul Szeged-Budapest-Bécs útvonalon Gustav Klimt, és a bécsi szecesszió nyomában!
URL:https://kreativkave.hu/termek/szegedi-program/kreativ-kave-aranyut-klimt-nyomaban-becs/
LOCATION:Bécs
END:VEVENT
END:VCALENDAR
