BEGIN:VCALENDAR
VERSION:2.0
PRODID:-//Kreatív Kávé
CALSCALE:GREGORIAN
METHOD:PUBLISH
X-WR-CALNAME:Kreatív Kávé
X-ORIGINAL-URL:https://kreativkave.hu/termek/szegedi-program/hollo-akrilfestes-szeged/
X-WR-CALDESC:HOLLÓ, AKRILFESTÉS &#8211; SZEGED
BEGIN:VEVENT
DTSTART:20200111T150000
DTEND:20200111T180000
SUMMARY:HOLLÓ, AKRILFESTÉS &#8211; SZEGED
DESCRIPTION:Absztrakt témánk kapcsán játszunk az árnyékokkal, fényekkel, keltünk hangulatot, érzéseket, hangokat. Jó móka lesz megtölteni a vásznat mindezekkel. Benned milyen érzéseket kelt?
URL:https://kreativkave.hu/termek/szegedi-program/hollo-akrilfestes-szeged/
LOCATION:Fodor József Élelmiszeripari Szakgimnázium és Szakközépiskola 6725 Szeged, Szabadkai út 3.
END:VEVENT
END:VCALENDAR
