BEGIN:VCALENDAR
VERSION:2.0
PRODID:-//Kreatív Kávé
CALSCALE:GREGORIAN
METHOD:PUBLISH
X-WR-CALNAME:Kreatív Kávé
X-ORIGINAL-URL:https://kreativkave.hu/termek/uromi-program/afremov-nyomaban-teli-nap-olajfestes-urom/
X-WR-CALDESC:AFREMOV NYOMÁBAN: TÉLI NAP, OLAJFESTÉS – ÜRÖM
BEGIN:VEVENT
DTSTART:20200104T150000
DTEND:20200104T190000
SUMMARY:AFREMOV NYOMÁBAN: TÉLI NAP, OLAJFESTÉS – ÜRÖM
DESCRIPTION:Afremov varázslatos hangulatú képei, a színek vibrálása egyedülálló stílust képvisel. A pezsgő színharmónia jól fog esni a szürke téli napokon, az olajfesték krémessége, illata, a festőkés siklása pedig az alkotás élményét teszi páratlanná! Járj utána, kóstolj bele, alkossunk meg együtt a téli napfény szívet melengető, csodás hangulatát!
URL:https://kreativkave.hu/termek/uromi-program/afremov-nyomaban-teli-nap-olajfestes-urom/
LOCATION:Kreatív Kávé - Üröm  2096 Üröm, Lobogó u. 2/C.
END:VEVENT
END:VCALENDAR
