BEGIN:VCALENDAR
VERSION:2.0
PRODID:-//Kreatív Kávé
CALSCALE:GREGORIAN
METHOD:PUBLISH
X-WR-CALNAME:Kreatív Kávé
X-ORIGINAL-URL:https://kreativkave.hu/termek/szegedi-program/bubajosok-tunderek-manok-paverpol-szeged/
X-WR-CALDESC:BŰBÁJOSOK-TÜNDÉREK-MANÓK, PAVERPOL – SZEGED
BEGIN:VEVENT
DTSTART:20191013T100000
DTEND:20191013T150000
SUMMARY:BŰBÁJOSOK-TÜNDÉREK-MANÓK, PAVERPOL – SZEGED
DESCRIPTION:Bűbájosok-Tündérek-Manók! Haloween közeledtével mesevilágba utazunk! Te melyik alakot öltenéd szívesen magadra? Alkosd meg paverpollal!
URL:https://kreativkave.hu/termek/szegedi-program/bubajosok-tunderek-manok-paverpol-szeged/
LOCATION:Hági Udvar 6720 Szeged, Kelemen László u. 3.
END:VEVENT
END:VCALENDAR
