BEGIN:VCALENDAR
VERSION:2.0
PRODID:-//Kreatív Kávé
CALSCALE:GREGORIAN
METHOD:PUBLISH
X-WR-CALNAME:Kreatív Kávé
X-ORIGINAL-URL:https://kreativkave.hu/termek/uromi-program/csillaglany-akrilfestes-urom/
X-WR-CALDESC:CSILLAGLÁNY, AKRILFESTÉS – ÜRÖM
BEGIN:VEVENT
DTSTART:20191123T100000
DTEND:20191123T130000
SUMMARY:CSILLAGLÁNY, AKRILFESTÉS – ÜRÖM
DESCRIPTION:Hangolódjunk aranyos csillogással a karácsonyra! Fess ragyogó Csillaglányt Kreatív Kávéval Ürömön! Próbálj ki többféle aranyozós médiumot, füstfóliát, metál festéket!
URL:https://kreativkave.hu/termek/uromi-program/csillaglany-akrilfestes-urom/
LOCATION:Kreatív Kávé - Üröm  2096 Üröm, Lobogó u. 2/C.
END:VEVENT
END:VCALENDAR
