BEGIN:VCALENDAR
VERSION:2.0
PRODID:-//Kreatív Kávé
CALSCALE:GREGORIAN
METHOD:PUBLISH
X-WR-CALNAME:Kreatív Kávé
X-ORIGINAL-URL:https://kreativkave.hu/termek/szegedi-program/sellolany-akrilfestes-szeged/
X-WR-CALDESC:SELLŐLÁNY, AKRILFESTÉS – SZEGED
BEGIN:VEVENT
DTSTART:20191012T100000
DTEND:20191012T140000
SUMMARY:SELLŐLÁNY, AKRILFESTÉS – SZEGED
DESCRIPTION:Fess éjszakai sellőlányos akrilfestményt a Kreatív Kávéval Szegeden! Használj komplementer színeket, alkoss holdfényt és tengert, tavirózsákat!
URL:https://kreativkave.hu/termek/szegedi-program/sellolany-akrilfestes-szeged/
LOCATION:Hági Udvar 6720 Szeged, Kelemen László u. 3.
END:VEVENT
END:VCALENDAR
