BEGIN:VCALENDAR
VERSION:2.0
PRODID:-//Kreatív Kávé
CALSCALE:GREGORIAN
METHOD:PUBLISH
X-WR-CALNAME:Kreatív Kávé
X-ORIGINAL-URL:https://kreativkave.hu/termek/egyeb/alkototabor-urom-2019-szombat/
X-WR-CALDESC:V. KK ALKOTÓTÁBOR ÜRÖM 2019 &#8211; SZOMBATI NAPIJEGY
BEGIN:VEVENT
DTSTART:20190720T090000
DTEND:20190720T170000
SUMMARY:V. KK ALKOTÓTÁBOR ÜRÖM 2019 &#8211; SZOMBATI NAPIJEGY
DESCRIPTION:Téma: Balatoni vitorlás akrilfestékkel, 40x50cm farost.
URL:https://kreativkave.hu/termek/egyeb/alkototabor-urom-2019-szombat/
LOCATION:Kreatív Kávé - Üröm  2096 Üröm, Lobogó u. 2/C.
END:VEVENT
END:VCALENDAR
