BEGIN:VCALENDAR
VERSION:2.0
PRODID:-//Kreatív Kávé
CALSCALE:GREGORIAN
METHOD:PUBLISH
X-WR-CALNAME:Kreatív Kávé
X-ORIGINAL-URL:https://kreativkave.hu/termek/egyeb/alkototabor-algyo-2019-csutortok/
X-WR-CALDESC:IV. KK ALKOTÓTÁBOR ALGYŐ 2019 &#8211; CSÜTÖRTÖKI NAPIJEGY
BEGIN:VEVENT
DTSTART:20190704T090000
DTEND:20190704T170000
SUMMARY:IV. KK ALKOTÓTÁBOR ALGYŐ 2019 &#8211; CSÜTÖRTÖKI NAPIJEGY
DESCRIPTION:Téma: Abo tulipánok (24x30cm feszített vászon) és póló textilfestéssel.
URL:https://kreativkave.hu/termek/egyeb/alkototabor-algyo-2019-csutortok/
LOCATION:Algyői Tájház - 6750 Algyő, Kastélykert utca 42.
END:VEVENT
END:VCALENDAR
