BEGIN:VCALENDAR
VERSION:2.0
PRODID:-//Kreatív Kávé
CALSCALE:GREGORIAN
METHOD:PUBLISH
X-WR-CALNAME:Kreatív Kávé
X-ORIGINAL-URL:https://kreativkave.hu/termek/egyeb/alkototabor-algyo-2019-hetfo/
X-WR-CALDESC:IV. KK ALKOTÓTÁBOR ALGYŐ 2019 &#8211; HÉTFŐI NAPIJEGY
BEGIN:VEVENT
DTSTART:20190701T091000
DTEND:20190701T170000
SUMMARY:IV. KK ALKOTÓTÁBOR ALGYŐ 2019 &#8211; HÉTFŐI NAPIJEGY
DESCRIPTION:Téma: Hegedű- aranyozás. Akril, 30x40cm farost.
URL:https://kreativkave.hu/termek/egyeb/alkototabor-algyo-2019-hetfo/
LOCATION:Algyői Tájház - 6750 Algyő, Kastélykert utca 42.
END:VEVENT
END:VCALENDAR
