BEGIN:VCALENDAR
VERSION:2.0
PRODID:-//Kreatív Kávé
CALSCALE:GREGORIAN
METHOD:PUBLISH
X-WR-CALNAME:Kreatív Kávé
X-ORIGINAL-URL:https://kreativkave.hu/termek/szegedi-program/szello-akrilfestes-szeged/
X-WR-CALDESC:SZELLŐ, AKRILFESTÉS &#8211; SZEGED
BEGIN:VEVENT
DTSTART:20190601T100000
DTEND:20190601T140000
SUMMARY:SZELLŐ, AKRILFESTÉS &#8211; SZEGED
DESCRIPTION:Téma: “Szellő, a ló”. Akril, 40x40cm farost.
URL:https://kreativkave.hu/termek/szegedi-program/szello-akrilfestes-szeged/
LOCATION:6722 Szeged, Honvéd tér 5/b.
END:VEVENT
END:VCALENDAR
