BEGIN:VCALENDAR
VERSION:2.0
PRODID:-//Kreatív Kávé
CALSCALE:GREGORIAN
METHOD:PUBLISH
X-WR-CALNAME:Kreatív Kávé
X-ORIGINAL-URL:https://kreativkave.hu/termek/szegedi-program/pipacsok-akrilfestes-szeged/
X-WR-CALDESC:Pipacsok, akrilfestés &#8211; Szeged
BEGIN:VEVENT
DTSTART:20190601T150000
DTEND:20190601T180000
SUMMARY:Pipacsok, akrilfestés &#8211; Szeged
DESCRIPTION:
URL:https://kreativkave.hu/termek/szegedi-program/pipacsok-akrilfestes-szeged/
LOCATION:6722 Szeged, Honvéd tér 5/b.
END:VEVENT
END:VCALENDAR
