BEGIN:VCALENDAR
VERSION:2.0
PRODID:-//Kreatív Kávé
CALSCALE:GREGORIAN
METHOD:PUBLISH
X-WR-CALNAME:Kreatív Kávé
X-ORIGINAL-URL:https://kreativkave.hu/termek/szegedi-program/szitakoto-akrilfestes-szeged-3/
X-WR-CALDESC:Szitakötő &#8211; akrilfestés, Szeged
BEGIN:VEVENT
DTSTART:20260606T100000
DTEND:20260606T130000
SUMMARY:Szitakötő &#8211; akrilfestés, Szeged
DESCRIPTION:Fessünk együtt szitakötőt Szegeden! Színek, játékosság és egy különleges mozgalmas hangulat vár rád ezen az élményfestésen. Fiatalabbak (8+) is becsatlakozhatnak!
URL:https://kreativkave.hu/termek/szegedi-program/szitakoto-akrilfestes-szeged-3/
LOCATION:AASZC Fodor József Élelmiszeripari Technikum és Szakképző Iskola 6725 Szeged Szabadkai út 3.
END:VEVENT
END:VCALENDAR
