BEGIN:VCALENDAR
VERSION:2.0
PRODID:-//Kreatív Kávé
CALSCALE:GREGORIAN
METHOD:PUBLISH
X-WR-CALNAME:Kreatív Kávé
X-ORIGINAL-URL:https://kreativkave.hu/termek/alkototaborok/alkototabor-2026-osz-spanyolorszag-calpe-helyfoglalasi-dij-2/
X-WR-CALDESC:Alkotótábor 2026 ősz: Spanyolország, Calpe (helyfoglalási díj)
BEGIN:VEVENT
DTSTART:20261017T034500
DTEND:20261024T120000
SUMMARY:Alkotótábor 2026 ősz: Spanyolország, Calpe (helyfoglalási díj)
DESCRIPTION:<h2 data-section-id="3b9xqd" data-start="145" data-end="216">🎨 Őszi alkotótábor a spanyol Riviérán – Calpe, 2026. október 17–24.</h2>
<p data-start="218" data-end="281"><strong data-start="218" data-end="281">Napfény. Tenger. Fiesta. Alkotás. Egy hét, ami veled marad.</strong></p>
URL:https://kreativkave.hu/termek/alkototaborok/alkototabor-2026-osz-spanyolorszag-calpe-helyfoglalasi-dij-2/
LOCATION:
END:VEVENT
END:VCALENDAR
