BEGIN:VCALENDAR
VERSION:2.0
PRODID:-//Kreatív Kávé
CALSCALE:GREGORIAN
METHOD:PUBLISH
X-WR-CALNAME:Kreatív Kávé
X-ORIGINAL-URL:https://kreativkave.hu/termek/szegedi-program/rab-utcajan-olajfestes-festokessel-szeged/
X-WR-CALDESC:Rab utcáján &#8211; olajfestés festőkéssel, Szeged
BEGIN:VEVENT
DTSTART:20260510T100000
DTEND:20260510T140000
SUMMARY:Rab utcáján &#8211; olajfestés festőkéssel, Szeged
DESCRIPTION:Tavalyi horvát alkotótáborunk inspirálta ezt a hangulatos utcaképet. Olajfestékkel dolgozunk: évszázados falak, virágos részletek és a mediterrán utcák semmivel össze nem téveszthető atmoszférája adja a kép varázsát.
URL:https://kreativkave.hu/termek/szegedi-program/rab-utcajan-olajfestes-festokessel-szeged/
LOCATION:AASZC Fodor József Élelmiszeripari Technikum és Szakképző Iskola 6725 Szeged Szabadkai út 3.
END:VEVENT
END:VCALENDAR
