BEGIN:VCALENDAR
VERSION:2.0
PRODID:-//Kreatív Kávé
CALSCALE:GREGORIAN
METHOD:PUBLISH
X-WR-CALNAME:Kreatív Kávé
X-ORIGINAL-URL:https://kreativkave.hu/termek/alkototaborok/alkototabor-2026-junius-zakynthos-gorogorszag/
X-WR-CALDESC:Alkotótábor 2026 június: Zakynthos &#8211; Görögország
BEGIN:VEVENT
DTSTART:20260613T120000
DTEND:20260620T183500
SUMMARY:Alkotótábor 2026 június: Zakynthos &#8211; Görögország
DESCRIPTION:Zakynthosi alkotótáborunkban merülj el a Jón-tenger türkiz varázsában, a görög ízekben, majd engedd, hogy a táj színei, fényei és hangulata vezetve formálódjanak vászonra.
URL:https://kreativkave.hu/termek/alkototaborok/alkototabor-2026-junius-zakynthos-gorogorszag/
LOCATION:Zakynthos, Laganas
END:VEVENT
END:VCALENDAR
