BEGIN:VCALENDAR
VERSION:2.0
PRODID:-//Kreatív Kávé
CALSCALE:GREGORIAN
METHOD:PUBLISH
X-WR-CALNAME:Kreatív Kávé
X-ORIGINAL-URL:https://kreativkave.hu/termek/uromi-program/klimt-nyomaban-viragoskert-akrilfestes-urom/
X-WR-CALDESC:Klimt nyomában: Virágoskert &#8211; akrilfestés, Üröm
BEGIN:VEVENT
DTSTART:20260111T100000
DTEND:20260111T140000
SUMMARY:Klimt nyomában: Virágoskert &#8211; akrilfestés, Üröm
DESCRIPTION:<strong data-start="155" data-end="237">Merülj el a színek varázsában – fess velünk Klimt ihlette virágoskertet!</strong>
URL:https://kreativkave.hu/termek/uromi-program/klimt-nyomaban-viragoskert-akrilfestes-urom/
LOCATION:Kreatív Kávé - Üröm  2096 Üröm, Lobogó u. 2/C.
END:VEVENT
END:VCALENDAR
