BEGIN:VCALENDAR
VERSION:2.0
PRODID:-//Kreatív Kávé
CALSCALE:GREGORIAN
METHOD:PUBLISH
X-WR-CALNAME:Kreatív Kávé
X-ORIGINAL-URL:https://kreativkave.hu/termek/alkototaborok/alkototabor-2026-tel-heviz-helyfoglalasi-dij/
X-WR-CALDESC:Alkotótábor 2026 tél: Hévíz (helyfoglalási díj)
BEGIN:VEVENT
DTSTART:20260115T100000
DTEND:20260118T120000
SUMMARY:Alkotótábor 2026 tél: Hévíz (helyfoglalási díj)
DESCRIPTION:Fedezd fel a hévízi termáltó varázslatos erejét! Az ősi víz feltöltő, a természet inspiráló – a tökéletes kombináció a kreatív újjászületéshez!
URL:https://kreativkave.hu/termek/alkototaborok/alkototabor-2026-tel-heviz-helyfoglalasi-dij/
LOCATION:Sante Panzió Hévíz (8380 Hévíz, Nyírfa u.1.)
END:VEVENT
END:VCALENDAR
