BEGIN:VCALENDAR
VERSION:2.0
PRODID:-//Kreatív Kávé
CALSCALE:GREGORIAN
METHOD:PUBLISH
X-WR-CALNAME:Kreatív Kávé
X-ORIGINAL-URL:https://kreativkave.hu/termek/szegedi-program/velence-olajfestes-festokessel-szeged/
X-WR-CALDESC:Velence &#8211; olajfestés festőkéssel, Szeged
BEGIN:VEVENT
DTSTART:20260104T100000
DTEND:20260104T140000
SUMMARY:Velence &#8211; olajfestés festőkéssel, Szeged
DESCRIPTION:Velence, gondola, vizes utcák, párás hangulat, napfelkelte. Alkossunk együtt Afremov alkotásának inspirációjára olajjal és festőkéssel szegedi festőprogramunkon!
URL:https://kreativkave.hu/termek/szegedi-program/velence-olajfestes-festokessel-szeged/
LOCATION:AASZC Fodor József Élelmiszeripari Technikum és Szakképző Iskola 6725 Szeged Szabadkai út 3.
END:VEVENT
END:VCALENDAR
