BEGIN:VCALENDAR
VERSION:2.0
PRODID:-//Kreatív Kávé
CALSCALE:GREGORIAN
METHOD:PUBLISH
X-WR-CALNAME:Kreatív Kávé
X-ORIGINAL-URL:https://kreativkave.hu/termek/szegedi-program/flamingok-akrilfestes-szeged/
X-WR-CALDESC:Flamingók &#8211; akrilfestés, Szeged
BEGIN:VEVENT
DTSTART:20251108T100000
DTEND:20251108T130000
SUMMARY:Flamingók &#8211; akrilfestés, Szeged
DESCRIPTION:Fessünk együtt flamingókat akrilfestékkel szegedi festőprogramunkon! Saját színötletekkel és díszítőelemekkel dolgozhatsz: alkotói szabadság van!
URL:https://kreativkave.hu/termek/szegedi-program/flamingok-akrilfestes-szeged/
LOCATION:AASZC Fodor József Élelmiszeripari Technikum és Szakképző Iskola 6725 Szeged Szabadkai út 3.
END:VEVENT
END:VCALENDAR
