BEGIN:VCALENDAR
VERSION:2.0
PRODID:-//Kreatív Kávé
CALSCALE:GREGORIAN
METHOD:PUBLISH
X-WR-CALNAME:Kreatív Kávé
X-ORIGINAL-URL:https://kreativkave.hu/termek/szegedi-program/capri-akrilfestes-szeged/
X-WR-CALDESC:Capri &#8211; akrilfestés, Szeged
BEGIN:VEVENT
DTSTART:20251011T150000
DTEND:20251011T190000
SUMMARY:Capri &#8211; akrilfestés, Szeged
DESCRIPTION:Capri - akrilfestés Szegeden! Fessük meg együtt ezt a nyárutót idéző, citrusos hangulatot élményfestő programunkon!
URL:https://kreativkave.hu/termek/szegedi-program/capri-akrilfestes-szeged/
LOCATION:AASZC Fodor József Élelmiszeripari Technikum és Szakképző Iskola 6725 Szeged Szabadkai út 3.
END:VEVENT
END:VCALENDAR
