BEGIN:VCALENDAR
VERSION:2.0
PRODID:-//Kreatív Kávé
CALSCALE:GREGORIAN
METHOD:PUBLISH
X-WR-CALNAME:Kreatív Kávé
X-ORIGINAL-URL:https://kreativkave.hu/termek/szegedi-program/alkototabor-2025-osz-tihanyban/
X-WR-CALDESC:1 szabad hely! Alkotótábor 2025 ősz: Tihany (helyfoglalási díj)
BEGIN:VEVENT
DTSTART:20251016T100000
DTEND:20251019T120000
SUMMARY:1 szabad hely! Alkotótábor 2025 ősz: Tihany (helyfoglalási díj)
DESCRIPTION:Őszi alkotótábor Tihanyban! Frissítő és feltöltő kalandok, sok vidámság, alkotás és kikapcsolódás vár októberi festőtáborunkban, a Balaton szívében!
URL:https://kreativkave.hu/termek/szegedi-program/alkototabor-2025-osz-tihanyban/
LOCATION:Tihany
END:VEVENT
END:VCALENDAR
