BEGIN:VCALENDAR
VERSION:2.0
PRODID:-//Kreatív Kávé
CALSCALE:GREGORIAN
METHOD:PUBLISH
X-WR-CALNAME:Kreatív Kávé
X-ORIGINAL-URL:https://kreativkave.hu/termek/uromi-program/alkototabor-2025-urom-vasarnapi-napijegy-mozaikozas/
X-WR-CALDESC:Alkotótábor 2025 Üröm &#8211; vasárnapi napijegy: Mozaikozás
BEGIN:VEVENT
DTSTART:20250622T090000
DTEND:20250622T170000
SUMMARY:Alkotótábor 2025 Üröm &#8211; vasárnapi napijegy: Mozaikozás
DESCRIPTION:Alkoss használati tárgyat mozaik technikával Ürömi Alkotótáborunkban! Válogasd a mozaikokat, díszítsd a tárgyakat saját színvilágod és ötleteid szerint!
URL:https://kreativkave.hu/termek/uromi-program/alkototabor-2025-urom-vasarnapi-napijegy-mozaikozas/
LOCATION:Kreatív Kávé - Üröm  2096 Üröm, Lobogó u. 2/C.
END:VEVENT
END:VCALENDAR
