BEGIN:VCALENDAR
VERSION:2.0
PRODID:-//Kreatív Kávé
CALSCALE:GREGORIAN
METHOD:PUBLISH
X-WR-CALNAME:Kreatív Kávé
X-ORIGINAL-URL:https://kreativkave.hu/termek/szegedi-program/alkototabor-2025-algyo-hetfoi-napijegy-aranyozas-monic/
X-WR-CALDESC:Alkotótábor 2025 Algyő &#8211; hétfői napijegy: aranyozás Monic
BEGIN:VEVENT
DTSTART:20250630T100000
DTEND:20250630T180000
SUMMARY:Alkotótábor 2025 Algyő &#8211; hétfői napijegy: aranyozás Monic
DESCRIPTION:Tarts velünk algyői alkotótáborunkban, hétfőn Klimt és a szecessziós stílus nyomában járunk, aranyozós médiumokkal dolgozunk! Kezdőként is jelentkezhetsz!
URL:https://kreativkave.hu/termek/szegedi-program/alkototabor-2025-algyo-hetfoi-napijegy-aranyozas-monic/
LOCATION:Algyői Tájház - 6750 Algyő, Kastélykert utca 42. 
END:VEVENT
END:VCALENDAR
