BEGIN:VCALENDAR
VERSION:2.0
PRODID:-//Kreatív Kávé
CALSCALE:GREGORIAN
METHOD:PUBLISH
X-WR-CALNAME:Kreatív Kávé
X-ORIGINAL-URL:https://kreativkave.hu/termek/szegedi-program/alkototabor-2025-algyo-vasarnapi-napijegy-tavirozsak-olajfestek/
X-WR-CALDESC:Alkotótábor 2025 Algyő &#8211; vasárnapi napijegy: Tavirózsák, olajfesték
BEGIN:VEVENT
DTSTART:20250706T100000
DTEND:20250706T180000
SUMMARY:Alkotótábor 2025 Algyő &#8211; vasárnapi napijegy: Tavirózsák, olajfesték
DESCRIPTION:Tavirózsák festése olajfestékkel Algyői Alkotótáborunkban! Alkossuk meg ezt a csodás alkonyati pillanatot és varázslatos színharmóniát!
URL:https://kreativkave.hu/termek/szegedi-program/alkototabor-2025-algyo-vasarnapi-napijegy-tavirozsak-olajfestek/
LOCATION:Algyői Tájház - 6750 Algyő, Kastélykert utca 42. 
END:VEVENT
END:VCALENDAR
